BEGIN:VCALENDAR
VERSION:2.0
PRODID:icalendar-ruby
CALSCALE:GREGORIAN
METHOD:PUBLISH
BEGIN:VEVENT
DTSTAMP:20260422T144553Z
UID:97-731403@dooroffaithhawaii.com
DTSTART:20260426T200000Z
DTEND:20260426T220000Z
CLASS:PUBLIC
CREATED:20260415T180525
DESCRIPTION:Door of Faith Honolulu Conference 2026\nApril 26\, 202610:00 AM
 \nDoor of Faith Honolulu\n1161 Young St\, Honolulu\, HI\nGuest Speaker: Ka
 hu David Kapaku\nJoin us for our conference gathering as we come together 
 for worship\, the Word\, and ministry. We are looking forward to what God 
 will do through this time and through the message brought by our guest spe
 aker.
LAST-MODIFIED:20260415T180525
LOCATION:
SUMMARY:DoF Conference 2026
URL;VALUE=URI:https://www.dooroffaithhawaii.com/events/dof-conference-2026-
 -97/2026-04-26
ATTACH;FILENAME=DOF-CONFERENCE-2026.png;FMTTYPE=image/png:https://dq5pwpg1q
 8ru0.cloudfront.net/2026/04/16/04/05/07/4832da37-d35a-49a0-9c2a-4bbde6ba9e
 7a/DOF-CONFERENCE-2026.png
END:VEVENT
END:VCALENDAR
